BEGIN:VCALENDAR
VERSION:2.0
PRODID:-//LTC4 - ECPv6.15.20//NONSGML v1.0//EN
CALSCALE:GREGORIAN
METHOD:PUBLISH
X-ORIGINAL-URL:https://ltc4.org
X-WR-CALDESC:Events for LTC4
REFRESH-INTERVAL;VALUE=DURATION:PT1H
X-Robots-Tag:noindex
X-PUBLISHED-TTL:PT1H
BEGIN:VTIMEZONE
TZID:UTC
BEGIN:STANDARD
TZOFFSETFROM:+0000
TZOFFSETTO:+0000
TZNAME:UTC
DTSTART:20250101T000000
END:STANDARD
END:VTIMEZONE
BEGIN:VEVENT
DTSTART;TZID=UTC:20260415T100000
DTEND;TZID=UTC:20260415T110000
DTSTAMP:20260422T225713
CREATED:20260330T100342Z
LAST-MODIFIED:20260330T100342Z
UID:1949-1776247200-1776250800@ltc4.org
SUMMARY:Global Digital Learning Network (GDLN)
DESCRIPTION:There will be THREE meetings for the Global Digital Learning Network (GDLN) this month!  This is an exciting time for the legal technology training community as LTC4 launches its “Working with AI” core competency.  Hear from some of your peers who have worked hard to develop this competency and find out what it offers your firm. \nWe have scheduled these meetings so that we can reach everyone from the UK\, Europe\, Canada and the US – East\, Central and West Coast. \nDo register for the one which best suits your time zone.  We look forward to seeing you! \n10 am BST https://us06web.zoom.us/meeting/register/Voes-RQGTxmmAEPH-E4nGw \n10 am EST https://us06web.zoom.us/meeting/register/mplE74yIQti8-dSbI_PnHQ \n9.30 am PT https://us06web.zoom.us/meeting/register/pNpxMVAZTTSEpTRool82Og
URL:https://ltc4.org/event/global-digital-learning-network-gdln/
END:VEVENT
END:VCALENDAR