BEGIN:VCALENDAR
VERSION:2.0
PRODID:-//LTC4 - ECPv6.15.20//NONSGML v1.0//EN
CALSCALE:GREGORIAN
METHOD:PUBLISH
X-WR-CALNAME:LTC4
X-ORIGINAL-URL:https://ltc4.org
X-WR-CALDESC:Events for LTC4
REFRESH-INTERVAL;VALUE=DURATION:PT1H
X-Robots-Tag:noindex
X-PUBLISHED-TTL:PT1H
BEGIN:VTIMEZONE
TZID:UTC
BEGIN:STANDARD
TZOFFSETFROM:+0000
TZOFFSETTO:+0000
TZNAME:UTC
DTSTART:20230101T000000
END:STANDARD
END:VTIMEZONE
BEGIN:VTIMEZONE
TZID:Europe/London
BEGIN:DAYLIGHT
TZOFFSETFROM:+0000
TZOFFSETTO:+0100
TZNAME:BST
DTSTART:20230326T010000
END:DAYLIGHT
BEGIN:STANDARD
TZOFFSETFROM:+0100
TZOFFSETTO:+0000
TZNAME:GMT
DTSTART:20231029T010000
END:STANDARD
BEGIN:DAYLIGHT
TZOFFSETFROM:+0000
TZOFFSETTO:+0100
TZNAME:BST
DTSTART:20240331T010000
END:DAYLIGHT
BEGIN:STANDARD
TZOFFSETFROM:+0100
TZOFFSETTO:+0000
TZNAME:GMT
DTSTART:20241027T010000
END:STANDARD
BEGIN:DAYLIGHT
TZOFFSETFROM:+0000
TZOFFSETTO:+0100
TZNAME:BST
DTSTART:20250330T010000
END:DAYLIGHT
BEGIN:STANDARD
TZOFFSETFROM:+0100
TZOFFSETTO:+0000
TZNAME:GMT
DTSTART:20251026T010000
END:STANDARD
END:VTIMEZONE
BEGIN:VTIMEZONE
TZID:America/New_York
BEGIN:DAYLIGHT
TZOFFSETFROM:-0500
TZOFFSETTO:-0400
TZNAME:EDT
DTSTART:20230312T070000
END:DAYLIGHT
BEGIN:STANDARD
TZOFFSETFROM:-0400
TZOFFSETTO:-0500
TZNAME:EST
DTSTART:20231105T060000
END:STANDARD
BEGIN:DAYLIGHT
TZOFFSETFROM:-0500
TZOFFSETTO:-0400
TZNAME:EDT
DTSTART:20240310T070000
END:DAYLIGHT
BEGIN:STANDARD
TZOFFSETFROM:-0400
TZOFFSETTO:-0500
TZNAME:EST
DTSTART:20241103T060000
END:STANDARD
BEGIN:DAYLIGHT
TZOFFSETFROM:-0500
TZOFFSETTO:-0400
TZNAME:EDT
DTSTART:20250309T070000
END:DAYLIGHT
BEGIN:STANDARD
TZOFFSETFROM:-0400
TZOFFSETTO:-0500
TZNAME:EST
DTSTART:20251102T060000
END:STANDARD
END:VTIMEZONE
BEGIN:VEVENT
DTSTART;TZID=UTC:20250121T150000
DTEND;TZID=UTC:20250121T160000
DTSTAMP:20260422T215710
CREATED:20241231T084647Z
LAST-MODIFIED:20250109T073814Z
UID:1261-1737471600-1737475200@ltc4.org
SUMMARY:LTC4 & GDLN Global Monthly Meeting
DESCRIPTION:This is our January meeting for you\, our LTC4 and GDLN community. LTC4 has been created by and for the legal industry and these meetings are always a great way to share experiences\, ask questions and resolve problems. As well as our regular agenda we will be telling you about our new Member Portal which will be available next month. We look forward to seeing you. January 21 @ 3.00 – 4.00pm GMT/10 am EST/7am PST. \nRegister in advance for this meeting: \nhttps://us06web.zoom.us/meeting/register/x7ztusxTRjuz7W_JEAK25g \nAfter registering\, you will receive a confirmation email containing information about joining the meeting
URL:https://ltc4.org/event/ltc4-gdln-global-monthly-meeting/
END:VEVENT
BEGIN:VEVENT
DTSTART;TZID=Europe/London:20241218T150000
DTEND;TZID=Europe/London:20241218T160000
DTSTAMP:20260422T215710
CREATED:20241210T083636Z
LAST-MODIFIED:20241210T083636Z
UID:1116-1734534000-1734537600@ltc4.org
SUMMARY:LTC4 and GDLN Global Monthly Meeting
DESCRIPTION:This is our December meeting for you\, our LTC4 and GDLN community. LTC4 has been created by and for the legal industry and these meetings are always a great way to share experiences\, ask questions and resolve problems. We look forward to seeing you. \nDecember 18\, 3pm GMT/10 am EST/ 7am PST \nRegister here:\nhttps://us06web.zoom.us/meeting/register/tZUpd-6ppz4jGtH3zSRoX-qGpJQ_Bj24EMxh
URL:https://ltc4.org/event/ltc4-and-gdln-global-monthly-meeting-2/
END:VEVENT
BEGIN:VEVENT
DTSTART;TZID=America/New_York:20241120T100000
DTEND;TZID=America/New_York:20241120T110000
DTSTAMP:20260422T215710
CREATED:20241031T151820Z
LAST-MODIFIED:20241031T152024Z
UID:952-1732096800-1732100400@ltc4.org
SUMMARY:LTC4 and GDLN Global Monthly Meeting
DESCRIPTION:This is our November meeting for you\, our LTC4 and GDLN community. LTC4 has been created by and for the legal industry and these meetings are always a great way to share experiences\, ask questions and resolve problems. We look forward to seeing you. \nNovember 20\, 3pm GMT/10 am EST/ 7am PST \nRegister here:\nhttps://us06web.zoom.us/meeting/register/tZUpd-6ppz4jGtH3zSRoX-qGpJQ_Bj24EMxh
URL:https://ltc4.org/event/ltc4-and-gdln-global-monthly-meeting/
END:VEVENT
BEGIN:VEVENT
DTSTART;TZID=UTC:20240509T123000
DTEND;TZID=UTC:20240509T140000
DTSTAMP:20260422T215710
CREATED:20240522T183225Z
LAST-MODIFIED:20241031T151958Z
UID:473-1715257800-1715263200@ltc4.org
SUMMARY:ILTA Europe – IT Education SIG\, LTC4’s GDLN & DEG Joint Meeting
DESCRIPTION:Do join our next roundtable meeting. Once again we are pleased to be joining forces with ILTA Europe’s Education & Training Special Interest Group and the Document Excellence Group (DEG). This is a fantastic opportunity to share your ideas\, pick your peers’ brains and build connections with other IT education\, learning and training professionals \nThis meeting is free to attend and open to anyone working in a law firm or legal department so feel free to invite a colleague. Registration details can be found here: https://ilta2.my.site.com/s/event/a1oVN000001T0KFYA0/ilta-europe-education-training-sig-meeting-952024
URL:https://ltc4.org/event/ilta-europe-it-education-sig-ltc4s-gdln-deg-joint-meeting/
END:VEVENT
BEGIN:VEVENT
DTSTART;TZID=UTC:20240207T123000
DTEND;TZID=UTC:20240207T140000
DTSTAMP:20260422T215710
CREATED:20240522T183626Z
LAST-MODIFIED:20241031T152004Z
UID:476-1707309000-1707314400@ltc4.org
SUMMARY:ILTA Europe – IT Education SIG & LTC4’s GDLN Joint Meeting
DESCRIPTION:Do join our next roundtable meeting. Once again we are pleased to be joining forces with ILTA Europe’s Education & Training Special Interest Group. As always there will be a lively discussion with your peers who are facing similar challenges. \nThis is a fantastic opportunity to share your ideas\, pick your peers’ brains and build connections with other IT education\, learning and training professionals. \nThis meeting is free to attend and open to anyone working in a law firm or legal department so feel free to invite a colleague. \nLocation: Milbank LLP\, 100 Liverpool Street\, London or via ZOOM \nStart Date & Time: 07/02/2023 12:30 (GMT)\nEnd Date & Time: 07/02/2023 14:00 (GMT) \nRegistration details can be found here.
URL:https://ltc4.org/event/ilta-europe-it-education-sig-ltc4s-gdln-joint-meeting/
LOCATION:Milbank LLP\, 100 Liverpool Street\, London\, United Kingdom
END:VEVENT
BEGIN:VEVENT
DTSTART;TZID=UTC:20240125T160000
DTEND;TZID=UTC:20240125T173000
DTSTAMP:20260422T215710
CREATED:20240522T183755Z
LAST-MODIFIED:20241031T152011Z
UID:479-1706198400-1706203800@ltc4.org
SUMMARY:Document Excellence Group – Ask the Experts
DESCRIPTION:January 25 2023\, 4.00 – 5.30 pm GMT/11.00am – 12.30pm ET \nJoin our panel and our expert audience to discuss document production initiatives and solutions to common challenges.  This is our first in-person event for a while but will be open to everyone via Zoom.  It will be hosted by Milbank at their wonderful offices at 100 Liverpool Street\, London\, EC2M 2AT. There will be an opportunity to network with your peers afterwards for in- person attendees. \nLocation: Milbank LLP\, 100 Liverpool Street\, London or via ZOOM \nStart Date & Time: 25/01/2023 16:00 (GMT) 11.00am ET\nEnd Date & Time: 25/01/2023 17:30 (GMT) 12.30pm ET \nREGISTER HERE
URL:https://ltc4.org/event/document-excellence-group-ask-the-experts/
END:VEVENT
END:VCALENDAR